BEGIN:VCALENDAR
VERSION:2.0
PRODID:-//Wild Earth Herbs - ECPv6.15.16.1//NONSGML v1.0//EN
CALSCALE:GREGORIAN
METHOD:PUBLISH
X-WR-CALNAME:Wild Earth Herbs
X-ORIGINAL-URL:https://wildearthherbs.com
X-WR-CALDESC:Events for Wild Earth Herbs
REFRESH-INTERVAL;VALUE=DURATION:PT1H
X-Robots-Tag:noindex
X-PUBLISHED-TTL:PT1H
BEGIN:VTIMEZONE
TZID:Australia/Sydney
BEGIN:STANDARD
TZOFFSETFROM:+1100
TZOFFSETTO:+1000
TZNAME:AEST
DTSTART:20240406T160000
END:STANDARD
BEGIN:DAYLIGHT
TZOFFSETFROM:+1000
TZOFFSETTO:+1100
TZNAME:AEDT
DTSTART:20241005T160000
END:DAYLIGHT
BEGIN:STANDARD
TZOFFSETFROM:+1100
TZOFFSETTO:+1000
TZNAME:AEST
DTSTART:20250405T160000
END:STANDARD
BEGIN:DAYLIGHT
TZOFFSETFROM:+1000
TZOFFSETTO:+1100
TZNAME:AEDT
DTSTART:20251004T160000
END:DAYLIGHT
BEGIN:STANDARD
TZOFFSETFROM:+1100
TZOFFSETTO:+1000
TZNAME:AEST
DTSTART:20260404T160000
END:STANDARD
BEGIN:DAYLIGHT
TZOFFSETFROM:+1000
TZOFFSETTO:+1100
TZNAME:AEDT
DTSTART:20261003T160000
END:DAYLIGHT
BEGIN:STANDARD
TZOFFSETFROM:+1100
TZOFFSETTO:+1000
TZNAME:AEST
DTSTART:20270403T160000
END:STANDARD
BEGIN:DAYLIGHT
TZOFFSETFROM:+1000
TZOFFSETTO:+1100
TZNAME:AEDT
DTSTART:20271002T160000
END:DAYLIGHT
END:VTIMEZONE
BEGIN:VEVENT
DTSTART;TZID=Australia/Sydney:20260419T080000
DTEND;TZID=Australia/Sydney:20260419T170000
DTSTAMP:20260424T084936
CREATED:20251029T041350Z
LAST-MODIFIED:20251128T100336Z
UID:2128-1776585600-1776618000@wildearthherbs.com
SUMMARY:Sanctum Botanica - Gathering 2
DESCRIPTION:Sanctum Botanica – A Hearts Apothecary\nBook Here – https://wildearthherbs.com/product/sanctum-botanica/ \n10-4pm\n$390 (for 3 month commitment)\nOr $666 (for entire journey)\nIncludes medicine making materials\, snacks and tea\nA deeply supportive offering — combining herbal wisdom\, embodiment\, and ritual in a way that honours grief and healing. \nSanctum Botanica- A Hearts Apothecary: A Six-Month Journey with Herbal Companionship\nA plant medicine immersion for tending the heart and honouring loss\nOverview:\nSanctum Botanica-  is a 6-month weekend journey exploring the sacred relationship between grief and the plants that hold us through it. Through deep connection with six powerful herbs — Rosemary\, Rose\, Hawthorn\, Mugwort\, Motherwort\, and Calendula — we’ll journey into healing\, remembrance\, and release. Each monthly gathering includes hands-on medicine making\, ritual\, sharing\, and plant communion.\nEach month\, we’ll spend a full day (10am–4pm) immersed in the energy of a single herb\, learning not just its medicinal uses\, but its emotional and spiritual gifts. Expect gentle ritual\, guided journeys\, tea\, snacks\, and time in nature. \nDates & Format:\n• 6 months\, 1 day/month on a weekend\n• 10am – 4pm\n• Wyndham \, Thaua Country\, Bega Valley\, NSW \nHerbal Allies we will meet\nRosemary – divine feminine\, mother energy\, for remembrance and clarity\nRose – for softening grief and opening the heart\nMugwort – dreamwork\, ancestral connection\, and letting go \nHawthorn – the great heart protector\nMotherwort – nervous system support and emotional holding\nCalendula – joy\, inner warmth\, divine masculine and wound healing \nEach session includes:\n• Guided plant journey/meditation\n• Medicine making (tinctures\, salves\, teas\, etc.)\n• sacred space and ceremony\n• Sharing circle and sacred space to be held\n• Tea\, nourishing snacks\, community sharing\nCost:\n• or $666 for the full series (March- May and July- September) = (1 weekend is free) \nOr $390 for 3 month commitments \n3 month commitments (3rd Sunday of the month) \n15th March\, 19th April\, 17th May \n3 month commitments (3rd Sunday of the month) – $390 \nJuly 19th\, August 16th\, September 20th \nIncludes all materials\, teas\, snacks\, and guided rituals \nWhy This Course?\nGrief isn’t something to fix — it’s something to tend. Plants have long been our allies in navigating death\, loss\, and transition. In this course\, you’ll learn not just how to work with these herbs physically\, but how to cultivate a relationship with them — so they can walk with you through your own process and help you support others.\nThis is for you if:\n• You’re moving through personal grief or supporting others in theirs\n• You want to deepen your connection with plant spirits\n• You value ritual\, slowness\, and seasonal living\n• You’re craving a held\, sacred container for self- growth and empowerment \nYou are wanting to not only learn but you are wanting reciprocity in community and with plants and you want to share with your community too. \nGrief is not a problem to be solved.\nIt is a sacred passage to be witnessed\, felt\, and tended.\nLet the plants hold you and be held in community\n \n 
URL:https://wildearthherbs.com/event/sanctum-botanica-2/
ATTACH;FMTTYPE=image/png:https://wildearthherbs.com/wp-content/uploads/2025/10/Screenshot-2025-11-28-at-9.02.19-pm.png
END:VEVENT
BEGIN:VEVENT
DTSTART;TZID=Australia/Sydney:20260315T080000
DTEND;TZID=Australia/Sydney:20260315T170000
DTSTAMP:20260424T084936
CREATED:20251029T041323Z
LAST-MODIFIED:20251128T100320Z
UID:2126-1773561600-1773594000@wildearthherbs.com
SUMMARY:Sanctum Botanica - Gathering 1
DESCRIPTION:Sanctum Botanica – A Hearts Apothecary\nBook Here – https://wildearthherbs.com/product/sanctum-botanica/ \n10-4pm\n$390 (for 3 month commitment)\nOr $666 (for entire journey)\nIncludes medicine making materials\, snacks and tea\nA deeply supportive offering — combining herbal wisdom\, embodiment\, and ritual in a way that honours grief and healing. \nSanctum Botanica- A Hearts Apothecary: A Six-Month Journey with Herbal Companionship\nA plant medicine immersion for tending the heart and honouring loss\nOverview:\nSanctum Botanica-  is a 6-month weekend journey exploring the sacred relationship between grief and the plants that hold us through it. Through deep connection with six powerful herbs — Rosemary\, Rose\, Hawthorn\, Mugwort\, Motherwort\, and Calendula — we’ll journey into healing\, remembrance\, and release. Each monthly gathering includes hands-on medicine making\, ritual\, sharing\, and plant communion.\nEach month\, we’ll spend a full day (10am–4pm) immersed in the energy of a single herb\, learning not just its medicinal uses\, but its emotional and spiritual gifts. Expect gentle ritual\, guided journeys\, tea\, snacks\, and time in nature. \nDates & Format:\n• 6 months\, 1 day/month on a weekend\n• 10am – 4pm\n• Wyndham \, Thaua Country\, Bega Valley\, NSW \nHerbal Allies we will meet\nRosemary – divine feminine\, mother energy\, for remembrance and clarity\nRose – for softening grief and opening the heart\nMugwort – dreamwork\, ancestral connection\, and letting go \nHawthorn – the great heart protector\nMotherwort – nervous system support and emotional holding\nCalendula – joy\, inner warmth\, divine masculine and wound healing \nEach session includes:\n• Guided plant journey/meditation\n• Medicine making (tinctures\, salves\, teas\, etc.)\n• sacred space and ceremony\n• Sharing circle and sacred space to be held\n• Tea\, nourishing snacks\, community sharing\nCost:\n• or $666 for the full series (March- May and July- September) = (1 weekend is free) \nOr $390 for 3 month commitments \n3 month commitments (3rd Sunday of the month) \n15th March\, 19th April\, 17th May \n3 month commitments (3rd Sunday of the month) – $390 \nJuly 19th\, August 16th\, September 20th \nIncludes all materials\, teas\, snacks\, and guided rituals \nWhy This Course?\nGrief isn’t something to fix — it’s something to tend. Plants have long been our allies in navigating death\, loss\, and transition. In this course\, you’ll learn not just how to work with these herbs physically\, but how to cultivate a relationship with them — so they can walk with you through your own process and help you support others.\nThis is for you if:\n• You’re moving through personal grief or supporting others in theirs\n• You want to deepen your connection with plant spirits\n• You value ritual\, slowness\, and seasonal living\n• You’re craving a held\, sacred container for self- growth and empowerment \nYou are wanting to not only learn but you are wanting reciprocity in community and with plants and you want to share with your community too. \nGrief is not a problem to be solved.\nIt is a sacred passage to be witnessed\, felt\, and tended.\nLet the plants hold you and be held in community\n \n 
URL:https://wildearthherbs.com/event/sanctum-botanica/
ATTACH;FMTTYPE=image/png:https://wildearthherbs.com/wp-content/uploads/2025/10/Screenshot-2025-11-28-at-9.02.19-pm.png
END:VEVENT
BEGIN:VEVENT
DTSTART;TZID=Australia/Sydney:20251114T080000
DTEND;TZID=Australia/Sydney:20251116T170000
DTSTAMP:20260424T084936
CREATED:20251029T041153Z
LAST-MODIFIED:20251029T041153Z
UID:2121-1763107200-1763312400@wildearthherbs.com
SUMMARY:Australia’s Radical Herbalists Gathering
DESCRIPTION:Invitation to the 6th Radical Herbalists Gathering & Community Workparty\nDates and location of our gathering\nOur intentions and focus\nDetails on the  gifting circle we will host\nCamping\, food\, and participation information\nLogistics and what to bring\nRSVP instructions and required attendee details\nContact email: ozradherb@gmail.com\n\nIt is time! To convene and create the 6th Radical Herbalists Gathering ( with a community work party ) in so called\, Australia!  So\, you are cordially invited to a gathering of Australian herbalists and plant enthusiasts of an anti-oppressive\, and community-minded persuasion. This gathering will be very different to the ones in the past\, it is primarily a workparty aimed to build infrastructure for the Rad Herb community. \nWe are organising this workparty around building a permanent kitchen structure for the Rad Herb headquarters for use during future gatherings making them more sustainable for us to host. So we invite you\, our community \nwith willing heads and hearts\,  to attend this work party. We will tend to the land\, build bridges literally and metaphorically\, prepare for future gatherings by building solid infrastructure and have an amazing time doing it. We would also like to see the Seed dispersal Collective grow some deeper roots. Our vision is solid and after a fallow year we’re really passionate about seeing this vision into fruition. Will use some of the time we gather to prepare seeds for dispersal and discuss how we can continue this project collectively into the future. \n  \nAs a growing number of grassroots herbalists emerge\, we feel inspired to explore how our work as herbalists and plant lovers can strengthen and build resilience in our communities. We want to nourish connection and celebrate what each of us brings to the landscape of herbalism in this country\, One idea that emerged in conversation and sparked our hearts was to invite folks to participate in a gifting circle- to bring something they have recently made\, be it a herbal remedy\, salt blend\, handmade soap\, jam\, ferment etc…something they have an abundance of to share. Folks can then give their gift and receive from others also. This way we can all go home with a little earthy herbal love from the awesome folks we will be camped and working with. We will get to know a little of what each of us are creating and be nourished by each other well beyond the gathering/workparty. \nOur goals for this workparty/ gathering include: \n\nstarting to build a permanent kitchen structure for future gatherings\ncutting bush poles for a structure\nremoving unsafe trees and milling timber\nsplitting and chopping firewood for future gatherings\nbuilding a bridge across the creek\nclearing space around the gathering site\nrelocating tin for the roof\nand packaging seeds for the Seed dispersal collective\n\nWe love experiencing diversity in the flow of the gathering and we believe everyone has something to offer so please consider coming no matter what your capacity is. We also need willing hands and hearts for fire keeping\, meal preparation\, water bearing\, space holding\, kid adventures etc. \nIf you feel called to join us please come. Your presence is always welcomed. \nWe will be camping and sharing a communal outdoor kitchen so be prepared for a weekend of intimate connection to nature and the elements; offline\, around the fire\, under the stars\, camped beside the creek\, working together and sharing nourishing food\, learning new skills\, having important conversation in community\, processing seeds and discussing seed sovereignty. \nFor those of you coming from far away we suggest car-pooling with a friend and planning your travel to avoid being on the road between dusk and dawn as there are many animals on the move during these hours. \n……………………………………………. \nBasic Logistics: \nWhen: Friday 14th Nov to Sunday 16th November 2025 \nWhere:  Thaua country\, Yuin Nation\, Bega Valley\, NSW (specific location to be announced in next email) \nDonations: There is no cost to attend this year but we don’t want to miss out on all the amazing condiment and ferment delights that we love so much during these gatherings so we’d love you to still bring 1 or 2 luxury items to share with everyone throughout the workparty/gathering and any favourite beverages to place on our communal tea and coffee station \nSite: Outdoor camping near a creek. \nFood: We share a communal kitchen\, meals and a tea and coffee station. We eat together and the food has always been amazing. ALL MEALS WILL BE PROVIDED \nKids: There will be little herbalists running around!!! We love and value the presence of kids in camp. Whether you are a parent or not please consider bringing something along as an activity or experience for the children. \n\nDogs: Please leave your dogs at home. We will be camping in a sensitive area that is repopulating after the fires. Thanks for understanding\n\nPLEASE NOTE: We need you to respond to this email \n\n If you are heart yes to joining us for any period over the weekend\nA please email us ASAP at ozradherb@gmail.com with the following details:\n\nThe names\, ages\, dietary and medical requirements of those attending \n\n\n(including children). \n\n\nWhat days you expect u to be with us \n\n\nAn emergency contact for you and anyone in your family attending \n\n\n If you or anyone is your group has a current first aid or a working with children check \n\n\nif you or anyone in your group would like to participate in the gifting circle \n\n\nThis will support us to work out a meal plan and order food asap. \nWe wanna feed you amazing food ! and look after you. \nWe will also send you more detailed information about what to bring and where to come. \nFeel free to forward this email to those that may be interested. \nWe look forward to working with you. \nBrigid and Bec
URL:https://wildearthherbs.com/event/australias-radical-herbalists-gathering/
LOCATION:Wildwoods Lane\, NSW\, Australia
ATTACH;FMTTYPE=image/jpeg:https://wildearthherbs.com/wp-content/uploads/2025/10/5baa8e12-8919-40b9-13a5-5710efab04d6.jpeg
ORGANIZER;CN="Rad Herb":MAILTO:ozradherb@gmail.com
END:VEVENT
END:VCALENDAR